BEGIN:VCALENDAR
VERSION:2.0
PRODID:-//ChamberMaster//Event Calendar 2.0//EN
METHOD:PUBLISH
X-PUBLISHED-TTL:P1H
REFRESH-INTERVAL:P1H
CALSCALE:GREGORIAN
BEGIN:VTIMEZONE
TZID:America/Denver
BEGIN:DAYLIGHT
RRULE:FREQ=YEARLY;BYMONTH=3;BYDAY=2SU
DTSTART:20070101T000000
TZOFFSETFROM:-0700
TZOFFSETTO:-0600
TZNAME:Mountain Daylight Time
END:DAYLIGHT
BEGIN:STANDARD
RRULE:FREQ=YEARLY;BYMONTH=11;BYDAY=1SU
DTSTART:20070101T000000
TZOFFSETFROM:-0600
TZOFFSETTO:-0700
TZNAME:Mountain Standard Time
END:STANDARD
END:VTIMEZONE
BEGIN:VEVENT
DTSTART;TZID=America/Denver:20260507T170000
DTEND;TZID=America/Denver:20260507T200000
X-MICROSOFT-CDO-ALLDAYEVENT:FALSE
SUMMARY:Faith Impact Expo - Nampa
DESCRIPTION:Join us in celebrating local\, faith-based non-profit organizations including Love INC\, Care House\, Fellowship of Christian Athletes\, Genesis Community Health\, and MANY MORE!\n\nA block-party style event\, attendees can get to know these organizations\, get food from local food trucks (Classic Guac and Roll\, Caribbean A3 Catering\, Bite Me\, and Stella's Ice Cream)\, visit a face painter\, play games\, and more!\n\nCome learn about the good work these faith-based nonprofits do for our community\, as well as enjoy a fun night out with your family. We hope to see you there!
X-ALT-DESC;FMTTYPE=text/html:Join us in celebrating local\, faith-based non-profit organizations including Love INC\, Care House\, Fellowship of Christian Athletes\, Genesis Community Health\, and MANY MORE!\n\nA block-party style event\, attendees can get to know these organizations\, get food from local food trucks (Classic Guac and Roll\, Caribbean A3 Catering\, Bite Me\, and Stella's Ice Cream)\, visit a face painter\, play games\, and more!\n\nCome learn about the good work these faith-based nonprofits do for our community\, as well as enjoy a fun night out with your family. We hope to see you there!
LOCATION:716 E Colorado Ave Nampa ID 83686
UID:e.1421.1447283
SEQUENCE:3
DTSTAMP:20260425T103530Z
URL:https://nampachamber.growthzoneapp.com/eventcalendar/Details/faith-impact-expo-nampa-1714144?sourceTypeId=Hub
END:VEVENT
END:VCALENDAR
